BEGIN:VCALENDAR
PRODID:-//kirchenweb.ch gmbh//veranstaltungsausgabe v2.0//DE
VERSION:2.0
METHOD:PUBLISH
BEGIN:VEVENT
DTSTART:20260426T090000Z
DTEND:20260426T110000Z
LOCATION:GleisK - Treff\, Signalstrasse 34\, 9400 Rorschach
TRANSP:OPAQUE
SEQUENCE:0
UID:34028-veranstaltung@ref-rorschach.ch
DTSTAMP:20260415T114716Z
DESCRIPTION:> Welt\, Glauben & Politik \n\nKontakt: Pfr. Patrick
  Marchlewitz Tel. 071 855 48 65\n\nWeitere Infos:
  https://www.ref-rorschach.ch/veranstaltung/34028
SUMMARY:Faith Talk
PRIORITY:5
X-MICROSOFT-CDO-IMPORTANCE:1
CLASS:PUBLIC
END:VEVENT
END:VCALENDAR
