BEGIN:VCALENDAR
PRODID:-//kirchenweb.ch gmbh//veranstaltungsausgabe v2.0//DE
VERSION:2.0
METHOD:PUBLISH
BEGIN:VEVENT
DTSTART:20260603T070000Z
DTEND:20260603T163000Z
LOCATION:Sempach\, \,
TRANSP:OPAQUE
SEQUENCE:0
UID:34021-veranstaltung@ref-rorschach.ch
DTSTAMP:20260323T081730Z
DESCRIPTION:Der diesjährige Ausflug führt uns zum Restaurant Hirschen
  Oberkirch und zur Vogelwarte Sempach\n\nProgramm:\n09.00 Abfahrt an den
  Einsteige-Orte\n09.30 Abfahrt Parkplatz Evang. Kirche Rorschach\n12.00
  Ankunft: Restaurant Hirschen Oberkirch\nFeines Mittagessen 3 Gang Menu
 \n13.45 Weiterfahrt zur Vogelwarte Sempach \n14.00 Ankunft: Vogelwarte
  Sempach \n14.15 Rundgang in 10er Gruppen durch die neue Ausstellung
 \nErfrischung mit einem Getränk oder einer Glace in der Cafeteria oder
  einen Kaffee im Garten geniessen und die Vögel beobachten. \n16.30
  Abfahrt Vogelwarte Sempach \n         \nRückkehr	ca. 18.30 Uhr\nDie
  Reise findet bei jedem Wetter statt.\n\nAnmeldung Seniorenausflug 2026   
 \nbis spätestens Mittwoch\, 21. Mai 2026 an Peter Bruderer
 \nhttps://www.ref-rorschach.ch/bericht/2068#formular\n\n\n\nKontakt: Peter
  Bruderer Tel. 071 844 54 16\n\nWeitere Infos:
  https://www.ref-rorschach.ch/veranstaltung/34021
SUMMARY:Seniorenausflug Vogelwarte Sempach
PRIORITY:5
X-MICROSOFT-CDO-IMPORTANCE:1
CLASS:PUBLIC
END:VEVENT
END:VCALENDAR
