BEGIN:VCALENDAR
PRODID:-//kirchenweb.ch gmbh//veranstaltungsausgabe v2.0//DE
VERSION:2.0
METHOD:PUBLISH
BEGIN:VEVENT
DTSTART:20270219T190000Z
DTEND:20270219T200000Z
LOCATION:GleisK - Treff\, Signalstrasse 34\, Rorschach\, Signalstrasse
  34\,
TRANSP:OPAQUE
SEQUENCE:0
UID:33989-veranstaltung@ref-rorschach.ch
DTSTAMP:20260321T092841Z
DESCRIPTION:Utopien - Spinnerei oder Überlebensstrategie?\n\nEin
  Diskussionsabend für Männer jeglichen Alters - durch den Abend führt
  Walter Künzler\n\nDu bist herzlich willkommen. Wir freuen uns auf Dich!
 \n\n\nKontakt: P. Helfenstein Tel. 079 469 63 41
 \np.helfensteib@ref-rorschach.ch\n\nKontakt: P. Helfenstein Tel. 079 469
  63 41\n\nWeitere Infos: https://www.ref-rorschach.ch/veranstaltung/33989
SUMMARY:Männerapéro: Utopien - Spinnerei oder Überlebensstrategie?
PRIORITY:5
X-MICROSOFT-CDO-IMPORTANCE:1
CLASS:PUBLIC
END:VEVENT
END:VCALENDAR
