BEGIN:VCALENDAR
PRODID:-//kirchenweb.ch gmbh//veranstaltungsausgabe v2.0//DE
VERSION:2.0
METHOD:PUBLISH
BEGIN:VEVENT
DTSTART:20270115T190000Z
DTEND:20270115T200000Z
LOCATION:GleisK - Treff\, Signalstrasse 34\, Rorschach\, Signalstrasse
  34\,
TRANSP:OPAQUE
SEQUENCE:0
UID:33988-veranstaltung@ref-rorschach.ch
DTSTAMP:20260321T092903Z
DESCRIPTION:Die Republik der Milliardäre - Geld\, Macht und Demokratie\n
 \nEin Diskussionsabend für Männer jeglichen Alters - durch den Abend
  führt Tim Kalhammer\n\nDu bist herzlich willkommen. Wir freuen uns auf
  Dich!\n\n\nKontakt: P. Helfenstein Tel. 079 469 63 41
 \np.helfensteib@ref-rorschach.ch\n\nKontakt: P. Helfenstein Tel. 079 469
  63 41\n\nWeitere Infos: https://www.ref-rorschach.ch/veranstaltung/33988
SUMMARY:Männerapéro: Die Republik der Milliardäre - Geld\, Macht und
  Demokratie
PRIORITY:5
X-MICROSOFT-CDO-IMPORTANCE:1
CLASS:PUBLIC
END:VEVENT
END:VCALENDAR
