BEGIN:VCALENDAR
PRODID:-//kirchenweb.ch gmbh//veranstaltungsausgabe v2.0//DE
VERSION:2.0
METHOD:PUBLISH
BEGIN:VEVENT
DTSTART:20261204T190000Z
DTEND:20261204T200000Z
LOCATION:GleisK - Treff\, Signalstrasse 34\, Rorschach\, Signalstrasse
  34\,
TRANSP:OPAQUE
SEQUENCE:0
UID:33987-veranstaltung@ref-rorschach.ch
DTSTAMP:20260321T092459Z
DESCRIPTION:Wer möchtest du im Blick auf dein Leben einmal gewesen sein?
 \n\nEin Diskussionsabend für Männer jeglichen Alters - durch den Abend
  führt Pius Helfenstein\n\nDu bist herzlich willkommen. Wir freuen uns
  auf Dich!\n\n\nKontakt: P. Helfenstein Tel. 079 469 63 41
 \np.helfensteib@ref-rorschach.ch\n\nKontakt: P. Helfenstein Tel. 079 469
  63 41\n\nWeitere Infos: https://www.ref-rorschach.ch/veranstaltung/33987
SUMMARY:Männerapéro: Wer möchtest du im Blick auf dein Leben einmal
  gewesen sein?
PRIORITY:5
X-MICROSOFT-CDO-IMPORTANCE:1
CLASS:PUBLIC
END:VEVENT
END:VCALENDAR
