BEGIN:VCALENDAR
PRODID:-//kirchenweb.ch gmbh//veranstaltungsausgabe v2.0//DE
VERSION:2.0
METHOD:PUBLISH
BEGIN:VEVENT
DTSTART:20261106T190000Z
DTEND:20261106T200000Z
LOCATION:GleisK - Treff\, Signalstrasse 34\, Rorschach\, Signalstrasse
  34\,
TRANSP:OPAQUE
SEQUENCE:0
UID:33986-veranstaltung@ref-rorschach.ch
DTSTAMP:20260411T134459Z
DESCRIPTION:Virtualität versus Realität\n\nEin Diskussionsabend für
  Männer jeglichen Alters - durch den Abend führt Marcel Stieger.\n\nDu
  bist herzlich willkommen. Wir freuen uns auf Dich!\n\n\nKontakt: P.
  Helfenstein Tel. 079 469 63 41\np.helfensteib@ref-rorschach.ch\n
 \nKontakt: P. Helfenstein Tel. 079 469 63 41\n\nWeitere Infos:
  https://www.ref-rorschach.ch/veranstaltung/33986
SUMMARY:Männerapéro: Virtualität versus Realität
PRIORITY:5
X-MICROSOFT-CDO-IMPORTANCE:1
CLASS:PUBLIC
END:VEVENT
END:VCALENDAR
