BEGIN:VCALENDAR
PRODID:-//kirchenweb.ch gmbh//veranstaltungsausgabe v2.0//DE
VERSION:2.0
METHOD:PUBLISH
BEGIN:VEVENT
DTSTART:20261031T130000Z
DTEND:20261031T140000Z
LOCATION:EKZ - Evang. Kirchgemeindezentrum\, \,
TRANSP:OPAQUE
SEQUENCE:0
UID:33947-veranstaltung@ref-rorschach.ch
DTSTAMP:20260122T162542Z
DESCRIPTION:Der Kinderchor "Sunnestrahl" führt ein Konzert auf:\n\n"Die
  Konferenz der Tiere" - eine Geschichte von Erich Kästner.\n\nIn dieser
  spannenden Geschichte geht es um Tiere in aller Welt\, die sich zu einer
  Konferenz treffen\, in der sie beraten wollen\, wie es endlich Frieden
  unter den Menschen geben kann.\n\nDas Konzert beginnt um 14 Uhr. Danach
  gibt es ein buntes Rahmenprogramm für die ganze Familie.\n\nKontakt: Ute
  Rendar Tel. 071 460 02 46\n\nWeitere Infos:
  https://www.ref-rorschach.ch/veranstaltung/33947
SUMMARY:Kinderkonzert "Die Konferenz der Tiere"
PRIORITY:5
X-MICROSOFT-CDO-IMPORTANCE:1
CLASS:PUBLIC
END:VEVENT
END:VCALENDAR
