BEGIN:VCALENDAR
PRODID:-//kirchenweb.ch gmbh//veranstaltungsausgabe v2.0//DE
VERSION:2.0
METHOD:PUBLISH
BEGIN:VEVENT
DTSTART:20261030T160000Z
DTEND:20261030T170000Z
LOCATION:EKZ - Evang. Kirchgemeindezentrum\, \,
TRANSP:OPAQUE
SEQUENCE:0
UID:33946-veranstaltung@ref-rorschach.ch
DTSTAMP:20260122T162110Z
DESCRIPTION:Der Projektkinderchor "Sunnestrahl" probt für ein Konzert \,
  "Die Konferenz der Tiere"\, einer spannenden und aktuellen Geschichte von
  Erich Kästner.\n\nAlle Kinder der 1. - 6. Klasse sind herzlich
  eingeladen\, mitzumachen!\n\nIn der Geschichte geht es darum\, dass Tiere
  aus aller Welt sich zu einer Konferenz treffen und beraten wollen\, wie
  man die Menschen dazu bringen kann\, dass endlich Frieden auf der ganzen
  Welt herrscht.\n\nDie Proben sind jeweils freitags von 17.00 - 18.00  an
  folgenden Daten: \n\nam 11. September\, am 18. September\, dann nach den
  Herbstferien am 23. Oktober \n(diese 3 Proben finden im
  Kleingottesdienstraum der Kirche statt) und am 30. Oktober (findet im
  Kirchgemeindezentrum) 2026.\n\nDie Leitung hat Ute Rendar.\n\nKontakt:
  Ute Rendar Tel. 071 460 02 46\n\nWeitere Infos:
  https://www.ref-rorschach.ch/veranstaltung/33946
SUMMARY:Kinderchor Sunnestrahl Probe
PRIORITY:5
X-MICROSOFT-CDO-IMPORTANCE:1
CLASS:PUBLIC
END:VEVENT
END:VCALENDAR
