BEGIN:VCALENDAR
PRODID:-//kirchenweb.ch gmbh//veranstaltungsausgabe v2.0//DE
VERSION:2.0
METHOD:PUBLISH
BEGIN:VEVENT
DTSTART:20260503T073000Z
DTEND:20260503T075000Z
LOCATION:Kirche\, \,
TRANSP:OPAQUE
SEQUENCE:0
UID:33937-veranstaltung@ref-rorschach.ch
DTSTAMP:20260116T130025Z
DESCRIPTION:Warm-Up-Singen \n\nwir wollen uns warmsingen mit Liedern\, die
  weniger vertraut sind und anschliessend im Gottesdienst gesungen werden.
 \n\nWir werden sie ein paarmal singen und uns in schwierige Stellen
  einhören.\n\nSo werden die Lieder vertraut und es macht nachher im
  Gottesdienst viel mehr Spass\, sie zu singen\, wenn man merkt\, dass man
  sie gut kann!\n\nAlle\, die Lust haben\, sich in die Gottesdienstlieder
  einzusingen\, sind herzlich eingeladen!\n\nKontakt: Ute Rendar Tel. 071
  460 02 46\n\nWeitere Infos:
  https://www.ref-rorschach.ch/veranstaltung/33937
SUMMARY:Warm-Up-Singen vor dem Gottesdienst
PRIORITY:5
X-MICROSOFT-CDO-IMPORTANCE:1
CLASS:PUBLIC
END:VEVENT
END:VCALENDAR
