BEGIN:VCALENDAR
PRODID:-//kirchenweb.ch gmbh//veranstaltungsausgabe v2.0//DE
VERSION:2.0
METHOD:PUBLISH
BEGIN:VEVENT
DTSTART:20260529T120000Z
DTEND:20260529T143000Z
LOCATION:GleisK - Treff\, Signalstrasse 34\, 9400 Rorschach
TRANSP:OPAQUE
SEQUENCE:0
UID:33896-veranstaltung@ref-rorschach.ch
DTSTAMP:20260108T072515Z
DESCRIPTION:Herzlich willkommen und herein spaziert.\n\nIm Kaffi Treff ist
  jede und jeder willkommen\, der feinen Kaffee oder Tee und
  selbstgebackenen Kuchen in geselliger Runde zu schätzen weiss. \n\nWer
  das Gespräch sucht\, findet sicher jemanden. Wer lieber ungestört
  geniesst\, findet auch einen Platz. \n\nWann: \nJeden Freitag 14.00 -
  16.30 Uhr \n\nWo: \nGleisK\, Signalstrasse 34\, Rorschach\n\nPreise: 
 \nAlle Speisen und Getränke werden auf Kollektenbasis ausgegeben. \n
 \nKinderspielecke: \n... ist vorhanden und darf bespielt werden. \n\nDie
  nächsten Termine: \n\n\nKontakt: \nPfarrer Patrick Marchlewitz\,
  patrick.marchlewitz@ref-rorschach.ch\, 071 844 54 18\n\nKontakt: Pfr.
  Patrick Marchlewitz Tel. 071 855 48 65\n\nWeitere Infos:
  https://www.ref-rorschach.ch/veranstaltung/33896
SUMMARY:Kaffi Treff
PRIORITY:5
X-MICROSOFT-CDO-IMPORTANCE:1
CLASS:PUBLIC
END:VEVENT
END:VCALENDAR
