BEGIN:VCALENDAR
PRODID:-//kirchenweb.ch gmbh//veranstaltungsausgabe v2.0//DE
VERSION:2.0
METHOD:PUBLISH
BEGIN:VEVENT
DTSTART:20261125T130000Z
DTEND:20261125T160000Z
LOCATION:EKZ - Evang. Kirchgemeindezentrum\, \,
TRANSP:OPAQUE
SEQUENCE:0
UID:33860-veranstaltung@ref-rorschach.ch
DTSTAMP:20260106T135000Z
DESCRIPTION:Kontakt: matthias.otte@ref-rorschach.ch\n\nWeitere Infos:
  https://www.ref-rorschach.ch/veranstaltung/33860
SUMMARY:Einstimmen auf Weihnachten
PRIORITY:5
X-MICROSOFT-CDO-IMPORTANCE:1
CLASS:PUBLIC
END:VEVENT
END:VCALENDAR
