BEGIN:VCALENDAR
PRODID:-//kirchenweb.ch gmbh//veranstaltungsausgabe v2.0//DE
VERSION:2.0
METHOD:PUBLISH
BEGIN:VEVENT
DTSTART:20260430T080000Z
DTEND:20260430T090000Z
LOCATION:Kirche Eingang West - Treffpunktraum\, \,
TRANSP:OPAQUE
SEQUENCE:0
UID:33759-veranstaltung@ref-rorschach.ch
DTSTAMP:20251203T164222Z
DESCRIPTION:Das Gehirn lässt sich auch im Alter noch trainieren\, aber
  wie? Das erfahren Sie beim neuen Angebot Gedächtnistraining der
  Evang.-ref. Kirchgemeinde Rorschach. Unter Anleitung von Trauti Theiler
  erlernen Sie mit gezielten Übungen\, das Gedächtnis zu trainieren. Der
  Anlass findet im Treffpunktraum der Kirche (Eingang West) statt. Der Kurs
  findet zweimal im Monat an einem Donnerstagmorgen von 10 -11 Uhr statt
  und dauert von Februar bis Juni. Es ist eine Anmeldung erforderlich und
  es wird eine Kollekte zur Deckung der Unkosten erhoben. \nDaten:
  19.02.2026\, 5.3.2026\, 19.3.2026\, 2.4.2026\, 16.4.2026\, 30.4.2026\,
  21.5.2026\, 28.5.2026\, 11.6.2026\, 25.6.2026\nAnmeldung an: Peter
  Bruderer\, 071 844 54 16\n\n\nKontakt: Peter Bruderer Tel. 071 844 54 16
 \n\nWeitere Infos: https://www.ref-rorschach.ch/veranstaltung/33759
SUMMARY:Gedächtnistraining
PRIORITY:5
X-MICROSOFT-CDO-IMPORTANCE:1
CLASS:PUBLIC
END:VEVENT
END:VCALENDAR
