BEGIN:VCALENDAR
PRODID:-//kirchenweb.ch gmbh//veranstaltungsausgabe v2.0//DE
VERSION:2.0
METHOD:PUBLISH
BEGIN:VEVENT
DTSTART:20260924T173000Z
DTEND:20260924T190000Z
LOCATION:Kirche Eingang West - Kleingottesdienstraum\, \,
TRANSP:OPAQUE
SEQUENCE:0
UID:33746-veranstaltung@ref-rorschach.ch
DTSTAMP:20251128T145037Z
DESCRIPTION:Etwa ein Mal im Monat feiern wir in der Evangelischen Kirche
  Rorschach einen Gottesdienst mit Band statt mit der Orgel. Weil dieser
  Gottesdienst um 10 Uhr beginnt\, haben wir ihn Punkt 10 Gottesdienst
  genannt.\n\nWir suchen ...\nDie Zusammensetzung der Punkt 10 Band
  wächst. Dennoch hat es immer noch Platz für alle\, die mitmachen
  möchten Wer sich vorstellen kann\, in der Band mitzusingen oder
  mitzuspielen\, darf gerne in die Proben hinein schnuppern und sich
  nachher entscheiden\, ob er oder sie mitmachen möchte.\n\nBandleitung
 \nMathias Peter\, Paradiesstrasse 16\, 9400 Rorschach\,
  mathias.peter@ref-rorschach.ch\n\nKontakt: Pfr. Patrick Marchlewitz Tel.
  071 855 48 65\n\nWeitere Infos:
  https://www.ref-rorschach.ch/veranstaltung/33746
SUMMARY:Punkt 10 Bandprobe
PRIORITY:5
X-MICROSOFT-CDO-IMPORTANCE:1
CLASS:PUBLIC
END:VEVENT
END:VCALENDAR
