BEGIN:VCALENDAR
PRODID:-//kirchenweb.ch gmbh//veranstaltungsausgabe v2.0//DE
VERSION:2.0
METHOD:PUBLISH
BEGIN:VEVENT
DTSTART:20260521T070000Z
DTEND:20260521T090000Z
LOCATION:EKZ - Evang. Kirchgemeindezentrum\, \,
TRANSP:OPAQUE
SEQUENCE:0
UID:33731-veranstaltung@ref-rorschach.ch
DTSTAMP:20251128T111102Z
DESCRIPTION:Kleines Kafi für (Gross-)Eltern mit ihren Kleinkindern\, in
  dem gespielt\, gegessen\, getrunken und geschwatzt werden kann....\n
 \nKontakt: Dela Fuchs Tel. 071 844 54 13\n\nWeitere Infos:
  https://www.ref-rorschach.ch/veranstaltung/33731
SUMMARY:ElKi-Kafi Chrabbelchäfer
PRIORITY:5
X-MICROSOFT-CDO-IMPORTANCE:1
CLASS:PUBLIC
END:VEVENT
END:VCALENDAR
