BEGIN:VCALENDAR
PRODID:-//kirchenweb.ch gmbh//veranstaltungsausgabe v2.0//DE
VERSION:2.0
METHOD:PUBLISH
BEGIN:VEVENT
DTSTART:20260424T070000Z
DTEND:20260424T080000Z
LOCATION:GleisK UG\, \,
TRANSP:OPAQUE
SEQUENCE:0
UID:33710-veranstaltung@ref-rorschach.ch
DTSTAMP:20251128T105720Z
DESCRIPTION:Jeden Freitag von 09.00 bis 10.00\n\nÄs hät\, solangs hät.
 \n\nKontakt: Dela Fuchs Tel. 071 844 54 13\n\nWeitere Infos:
  https://www.ref-rorschach.ch/veranstaltung/33710
SUMMARY:Essen am Gleis
PRIORITY:5
X-MICROSOFT-CDO-IMPORTANCE:1
CLASS:PUBLIC
END:VEVENT
END:VCALENDAR
