BEGIN:VCALENDAR
PRODID:-//kirchenweb.ch gmbh//veranstaltungsausgabe v2.0//DE
VERSION:2.0
METHOD:PUBLISH
BEGIN:VEVENT
DTSTART:20260710T173000Z
DTEND:20260710T193000Z
LOCATION:Kirche Eingang West - Treffpunktraum\, \,
TRANSP:OPAQUE
SEQUENCE:0
UID:33673-veranstaltung@ref-rorschach.ch
DTSTAMP:20251126T153056Z
DESCRIPTION:Die espresso - Leserunde bietet die Möglichkeit\, lesend
  miteinander ins Gespräch zu kommen und dabei zu entdecken\, wie der
  Lesestoff bei mir persönlich und  den Mitleserinnen ankommt. Welche
  Fragen werden aufgeworfen\, wo finden wir Antworten dazu.\n\n\nKontakt:
  Pfrn Esther Marchlewitz Tel. 071 855 48 65\n\nWeitere Infos:
  https://www.ref-rorschach.ch/veranstaltung/33673
SUMMARY:Evtl. espresso - Leserunde für Frauen
PRIORITY:5
X-MICROSOFT-CDO-IMPORTANCE:1
CLASS:PUBLIC
END:VEVENT
END:VCALENDAR
