BEGIN:VCALENDAR
PRODID:-//kirchenweb.ch gmbh//veranstaltungsausgabe v2.0//DE
VERSION:2.0
METHOD:PUBLISH
BEGIN:VEVENT
DTSTART:20260707T080000Z
DTEND:20260707T090000Z
LOCATION:Pflegheim der Region Rorschach - PeLago\, Wiesenstrasse 14\, 9404
  Rorschacherberg
TRANSP:OPAQUE
SEQUENCE:0
UID:33662-veranstaltung@ref-rorschach.ch
DTSTAMP:20251126T151227Z
DESCRIPTION:Gottesdienst mit Abendmahl in ökumenischer Offenheit mit
  Pfrn. Esther Marchlewitz.\n\nKontakt: Pfrn Esther Marchlewitz Tel. 071
  855 48 65\n\nWeitere Infos:
  https://www.ref-rorschach.ch/veranstaltung/33662
SUMMARY:Gottesdienst im Pflegheim der Region Rorschach - PeLago
PRIORITY:5
X-MICROSOFT-CDO-IMPORTANCE:1
CLASS:PUBLIC
END:VEVENT
END:VCALENDAR
