BEGIN:VCALENDAR
PRODID:-//kirchenweb.ch gmbh//veranstaltungsausgabe v2.0//DE
VERSION:2.0
METHOD:PUBLISH
BEGIN:VEVENT
DTSTART:20260710T080000Z
DTEND:20260710T090000Z
LOCATION:Haus zum Seeblick\, Heidenerstrasse 50\,\, 9404 Rorschacherberg
TRANSP:OPAQUE
SEQUENCE:0
UID:33636-veranstaltung@ref-rorschach.ch
DTSTAMP:20251126T155105Z
DESCRIPTION:Gottesdienst mit Abendmahl im Haus zum Seeblick mit Pfrn.
  Esther Marchlewitz.\nWir feiern in ökumenischer Offenheit. \n\nKontakt:
  Pfrn Esther Marchlewitz Tel. 071 855 48 65\n\nWeitere Infos:
  https://www.ref-rorschach.ch/veranstaltung/33636
SUMMARY:Gottesdienst im Haus zum Seeblick
PRIORITY:5
X-MICROSOFT-CDO-IMPORTANCE:1
CLASS:PUBLIC
END:VEVENT
END:VCALENDAR
