BEGIN:VCALENDAR
PRODID:-//kirchenweb.ch gmbh//veranstaltungsausgabe v2.0//DE
VERSION:2.0
METHOD:PUBLISH
BEGIN:VEVENT
DTSTART:20260422T163000Z
DTEND:20260422T183000Z
LOCATION:EKZ - Evang. Kirchgemeindezentrum\, \,
TRANSP:OPAQUE
SEQUENCE:0
UID:33595-veranstaltung@ref-rorschach.ch
DTSTAMP:20251124T151136Z
DESCRIPTION:Kontakt: Matthias Otte\, Tel. 071 844 54 12\n\nWeitere Infos:
  https://www.ref-rorschach.ch/veranstaltung/33595
SUMMARY:Jugendclub
PRIORITY:5
X-MICROSOFT-CDO-IMPORTANCE:1
CLASS:PUBLIC
END:VEVENT
END:VCALENDAR
