BEGIN:VCALENDAR
PRODID:-//kirchenweb.ch gmbh//veranstaltungsausgabe v2.0//DE
VERSION:2.0
METHOD:PUBLISH
BEGIN:VEVENT
DTSTART:20260306T174500Z
DTEND:20260306T184500Z
LOCATION:Zentrum Sankt Kolumban\, \,
TRANSP:OPAQUE
SEQUENCE:0
UID:33551-veranstaltung@ref-rorschach.ch
DTSTAMP:20251110T090332Z
DESCRIPTION:Die Liturgie des Weltgebetstagsgottesdienstes 2026 stammt aus
  Nigeria.\n\nUnter dem Titel ""Ich will euch stärken\, kommt!" feiern wir
  in ökumenischer & regionaler Verbundenheit.\n\nFür die Musik sorgt das
  Männtigschörli Goldach.\n\nKontakt: Pfrn Esther Marchlewitz Tel. 071
  855 48 65\n\nWeitere Infos:
  https://www.ref-rorschach.ch/veranstaltung/33551
SUMMARY:Weltgebetstag 2026 - Nigeria
PRIORITY:5
X-MICROSOFT-CDO-IMPORTANCE:1
CLASS:PUBLIC
END:VEVENT
END:VCALENDAR
