BEGIN:VCALENDAR
PRODID:-//kirchenweb.ch gmbh//veranstaltungsausgabe v2.0//DE
VERSION:2.0
METHOD:PUBLISH
BEGIN:VEVENT
DTSTART:20260510T170000Z
DTEND:20260510T180000Z
LOCATION:Kirche Eingang West - Kleingottesdienstraum\, \,
TRANSP:OPAQUE
SEQUENCE:0
UID:33549-veranstaltung@ref-rorschach.ch
DTSTAMP:20251107T150232Z
DESCRIPTION:Seit 1959 findet in der Regel am 2. Sonntag im Monat um 19 Uhr
  ein evangelischer Gottesdienst in französischer Sprache in unserer
  Kirche (Kleingottesdienstraum) statt. \n\n\nBasile ZOUMA\, pasteur
 \nhttps://eglisefrancaise.ch/\n\nKontakt: Pfr. Patrick Marchlewitz Tel.
  071 855 48 65\n\nWeitere Infos:
  https://www.ref-rorschach.ch/veranstaltung/33549
SUMMARY:Culte en français - Gottesdienst
PRIORITY:5
X-MICROSOFT-CDO-IMPORTANCE:1
CLASS:PUBLIC
END:VEVENT
END:VCALENDAR
