BEGIN:VCALENDAR
PRODID:-//kirchenweb.ch gmbh//veranstaltungsausgabe v2.0//DE
VERSION:2.0
METHOD:PUBLISH
BEGIN:VEVENT
DTSTART:20260509T080000Z
DTEND:20260509T140000Z
LOCATION:Biodiversitätsgarten am Stadtbahnhof\, \,
TRANSP:OPAQUE
SEQUENCE:0
UID:33543-veranstaltung@ref-rorschach.ch
DTSTAMP:20251218T100622Z
DESCRIPTION:Kontakt: Pfr. Patrick Marchlewitz Tel. 071 855 48 65\n
 \nWeitere Infos: https://www.ref-rorschach.ch/veranstaltung/33543
SUMMARY:Kurs: Ruderalfläche anlegen mit dem WWF
PRIORITY:5
X-MICROSOFT-CDO-IMPORTANCE:1
CLASS:PUBLIC
END:VEVENT
END:VCALENDAR
