BEGIN:VCALENDAR
PRODID:-//kirchenweb.ch gmbh//veranstaltungsausgabe v2.0//DE
VERSION:2.0
METHOD:PUBLISH
BEGIN:VEVENT
DTSTART:20260425T093000Z
DTEND:20260425T123000Z
LOCATION:EKZ - Evang. Kirchgemeindezentrum\, \,
TRANSP:OPAQUE
SEQUENCE:0
UID:33526-veranstaltung@ref-rorschach.ch
DTSTAMP:20260113T193630Z
DESCRIPTION:Geniessen Sie eine warme Suppe\, Kaffee und Kuchen an unseren
  Ständen in Rorschach – für eine gute Sache.\n\nDank der
  Unterstützung der Feuerwehr Rorschach-Rorschacherberg findet die
  Veranstaltung an folgenden Standorten in Rorschach statt:\n\n•	Würth
  Haus Rorschach\n•	Trischliplatz vor der Migros\n•	Evangelisches
  Kirchgemeindezentrum (parallel zum Benefiz-Kleiderflohmarkt)\n\n\n
 \nKontakt: Dela Fuchs Tel. 071 844 54 13\n\nWeitere Infos:
  https://www.ref-rorschach.ch/veranstaltung/33526
SUMMARY:Mit Suppe helfen/ Kleiderflohmarkt
PRIORITY:5
X-MICROSOFT-CDO-IMPORTANCE:1
CLASS:PUBLIC
END:VEVENT
END:VCALENDAR
