BEGIN:VCALENDAR
PRODID:-//kirchenweb.ch gmbh//veranstaltungsausgabe v2.0//DE
VERSION:2.0
METHOD:PUBLISH
BEGIN:VEVENT
DTSTART:20261205T090000Z
DTEND:20261205T170000Z
LOCATION:EKZ - Evang. Kirchgemeindezentrum\, \,
TRANSP:OPAQUE
SEQUENCE:0
UID:33524-veranstaltung@ref-rorschach.ch
DTSTAMP:20251219T170221Z
DESCRIPTION:Kontakt: matthias.otte@ref-rorschach.ch\n\nWeitere Infos:
  https://www.ref-rorschach.ch/veranstaltung/33524
SUMMARY:Erlebnisprogramm
PRIORITY:5
X-MICROSOFT-CDO-IMPORTANCE:1
CLASS:PUBLIC
END:VEVENT
END:VCALENDAR
