BEGIN:VCALENDAR
PRODID:-//kirchenweb.ch gmbh//veranstaltungsausgabe v2.0//DE
VERSION:2.0
METHOD:PUBLISH
BEGIN:VEVENT
DTSTART:20260905T080000Z
DTEND:20260905T160000Z
LOCATION:EKZ - Evang. Kirchgemeindezentrum\, \,
TRANSP:OPAQUE
SEQUENCE:0
UID:33523-veranstaltung@ref-rorschach.ch
DTSTAMP:20251103T204741Z
DESCRIPTION:Kontakt: matthias.otte@ref-rorschach.ch\n\nWeitere Infos:
  https://www.ref-rorschach.ch/veranstaltung/33523
SUMMARY:Erlebnisprogramm
PRIORITY:5
X-MICROSOFT-CDO-IMPORTANCE:1
CLASS:PUBLIC
END:VEVENT
END:VCALENDAR
