BEGIN:VCALENDAR
PRODID:-//kirchenweb.ch gmbh//veranstaltungsausgabe v2.0//DE
VERSION:2.0
METHOD:PUBLISH
BEGIN:VEVENT
DTSTART:20260424T170000Z
DTEND:20260424T190000Z
LOCATION:EKZ - Evang. Kirchgemeindezentrum\, \,
TRANSP:OPAQUE
SEQUENCE:0
UID:33493-veranstaltung@ref-rorschach.ch
DTSTAMP:20251103T151514Z
DESCRIPTION:Kontakt: matthias.otte@ref-rorschach.ch\n\nWeitere Infos:
  https://www.ref-rorschach.ch/veranstaltung/33493
SUMMARY:Clever Teenagerclub
PRIORITY:5
X-MICROSOFT-CDO-IMPORTANCE:1
CLASS:PUBLIC
END:VEVENT
END:VCALENDAR
