BEGIN:VCALENDAR
PRODID:-//kirchenweb.ch gmbh//veranstaltungsausgabe v2.0//DE
VERSION:2.0
METHOD:PUBLISH
BEGIN:VEVENT
DTSTART:20260428T120000Z
DTEND:20260428T140000Z
LOCATION:EKZ - Evang. Kirchgemeindezentrum\, \,
TRANSP:OPAQUE
SEQUENCE:0
UID:33470-veranstaltung@ref-rorschach.ch
DTSTAMP:20251103T133716Z
DESCRIPTION:Unsere Bastelgruppe trifft sich regelmässig um schöne
  Geschenke und nützliche Dinge für den Verkauf herzustellen. Unser
  Angebot ist so vielfältig wie unsere Mitglieder: wir stricken\, nähen\,
  sticken\, stellen Holzartikel her\, basteln Karten\, machen
  Blumengestecke u.v.m. Selbstverständlich sind auch neue Ideen herzlich
  willkommen. \n\nKontakt: Peter Bruderer Tel. 071 844 54 16\n\nWeitere
  Infos: https://www.ref-rorschach.ch/veranstaltung/33470
SUMMARY:Bastelgruppe Krea(k)tiv
PRIORITY:5
X-MICROSOFT-CDO-IMPORTANCE:1
CLASS:PUBLIC
END:VEVENT
END:VCALENDAR
