BEGIN:VCALENDAR
PRODID:-//kirchenweb.ch gmbh//veranstaltungsausgabe v2.0//DE
VERSION:2.0
METHOD:PUBLISH
BEGIN:VEVENT
DTSTART:20260509T153000Z
DTEND:20260509T163000Z
LOCATION:Pauluskapelle Goldach\, \,
TRANSP:OPAQUE
SEQUENCE:0
UID:33435-veranstaltung@ref-rorschach.ch
DTSTAMP:20260415T145925Z
DESCRIPTION:Bibel\, Brot & Leben teilen\n\nGutes lässt Gott gedeihen.
  Wein erfreut das Herz. Öl lässt das Angesicht leuchten und Brot stärkt
  die Herzen der Menschen. (Psalm 104\,15) Teilen wir diese Gaben und
  schenken uns ein Zeichen des Zuspruchs\, indem wir einander mit duftendem
  Salböl segnen.\n\nIm Anschluss sind alle zu Brot und Käse eingeladen.\n
 \nKeine Anmeldung erforderlich. \n\nKontakt: Pfr. Patrick Marchlewitz Tel.
  071 844 54 18\n\nWeitere Infos:
  https://www.ref-rorschach.ch/veranstaltung/33435
SUMMARY:Ökumenischer Segnungs- und Salbungsgottesdienst
PRIORITY:5
X-MICROSOFT-CDO-IMPORTANCE:1
CLASS:PUBLIC
END:VEVENT
END:VCALENDAR
