BEGIN:VCALENDAR
PRODID:-//kirchenweb.ch gmbh//veranstaltungsausgabe v2.0//DE
VERSION:2.0
METHOD:PUBLISH
BEGIN:VEVENT
DTSTART:20260505T170000Z
DTEND:20260505T193000Z
LOCATION:EKZ - Evang. Kirchgemeindezentrum\, \,
TRANSP:OPAQUE
SEQUENCE:0
UID:33386-veranstaltung@ref-rorschach.ch
DTSTAMP:20260320T170056Z
DESCRIPTION:Die Bibel - Das einflussreichste Buch der Welt?\n\nLeben in
  Westeuropa bedeutet: Bildung\, Demokratie\, Freiheit\, Menschenrechte\,
  soziale Versorgung und viel mehr. Diese Werte finden wir vor allem dort\,
  wo das Christentum prägend war. \n\nGezeigt wird der Kurzfilm "Ziemlich
  beste Worte" - eine mitreis-senden Dokumentation\, wie die Bibel unser
  Leben bis heute prägt. Der Film lässt Menschen zu Wort kommen. Ihre
  persönlichen Geschichten inspirieren dazu\, die Bibel neu zu entdecken.
 \n\nIm Anschluss diskutieren interessante Persönlichkeiten aus der Region
  Rorschach zusammen mit dem Publikum: Imelda Natter (Leiterin Bibliothek
  Rorschach)\, Marco Dörig (Geschäftsführer HPV)\, Barbara Wolfer (PHSG
  Rorschach)\, Louisa Otte (Hebamme)\, Dominik Scherrer (Richter).\n
 \nEvang. Kirchgemeindezentrum Rorschach\, Signalstrasse 34\n\n19.00 Uhr
  Türöffnung \n19.30 Uhr Begrüssung & Film \n20.30 Uhr Podium\n21.30 Uhr
  Ausklang\n\nModeriert wird der ökumenische Abend von \n\nEintritt frei. 
 \nAnmeldung ist nicht erforderlich. \n\n\n\nKontakt: Pfr. Patrick
  Marchlewitz Tel. 071 844 54 18\n\nWeitere Infos:
  https://www.ref-rorschach.ch/veranstaltung/33386
SUMMARY:ökumenisches Podium im CEVI Kino
PRIORITY:5
X-MICROSOFT-CDO-IMPORTANCE:1
CLASS:PUBLIC
END:VEVENT
END:VCALENDAR
