BEGIN:VCALENDAR
PRODID:-//kirchenweb.ch gmbh//veranstaltungsausgabe v2.0//DE
VERSION:2.0
METHOD:PUBLISH
BEGIN:VEVENT
DTSTART;VALUE=DATE:20260926
DTEND;VALUE=DATE:20260927
LOCATION:Kroatien\, Istrien\, Vrsar\, \,
TRANSP:OPAQUE
SEQUENCE:0
UID:33231-veranstaltung@ref-rorschach.ch
DTSTAMP:20250711T141247Z
DESCRIPTION:Wann?\nSamstag 26. September — Samstag 3. Oktober 2026\n
 \nFür wen?\nDiese Ferienwoche ist für alle Generationen gedacht:
  Familien\, Einzelreisende\, Väter oder Mütter mit Kindern\, Senioren\,
  usw.\n\nWo?\nKroatien\, Istrien\, Vrsar\n\nUnterkunft\nHotel Belvedere
  (direkt am Meer)\nDoppelzimmer / Einzelzimmer / Familienzimmer 
 \nhttps://www.maistra.com/de/unterkunft/resort-belvedere/?gclid=EAIaIQobCh
 MIkKT-oNzy_wIVIWHmCh2rEw65EAAYASAAEgJa6_D_BwE#/\n\nPreise\nErwachsene EZ
  Fr. 850.- \nErwachsene DZ Fr. 700.-\nJugendliche ab 12 Jahren Fr. 450.- 
 \nKinder ab 3 Jahren Fr. 350.- \nKinder bis 3 Jahre gratis\nDie Preise
  enthalten Frühstück und Abendessen\, Anreise und einige Ausflüge.\n
 \nEssen\nHalbpension mit Abendessen\n\nWeitere Infos\nFahrt im Reisecar
  der Firma Gross Reisen Rorschach.\n\nWährend der Woche werden mehrere
  Ausflüge (freiwillig) in die nähere Region angeboten.\n• Zeit am
  Strand/ Zeit für sich\n• Bootstour: Rovinj\, Piratenhöhle\n•
  Stadterkundung: Pula\n• Wanderung: Limski-Kanal\n• Historica
  Aromatica Park\n• Gottesdienst in einer Kapelle\n• ZIP-Line-Erlebnis
  / Weinprobe (nicht im Preis)\n• Künstlerstadt Grosnjan\n\nErmässigung
 \nNiemand soll aus finanziellen Gründen zu Hause bleiben. Bitte wenden
  sie sich an den Sozialdienst der Kirchgemeinde: Dela Fuchs\, Tel. 071 844
  54 13.\n\nInformationsabend\nAlle Angemeldeten und Interessierten sind am
  Montag\, 11. August 2026 um 19.00 Uhr zu einem Informationsabend ins
  Evangelische Kirchgemeindezentrum eingeladen.\n\nAnmeldung  ab sofort bis
  23. August 2026 bei\nPfarrer Patrick Marchlewitz\,
  patrick.marchlewitz@ref-rorschach.ch\, 071 844 54 18\n\nKontakt: Pfr.
  Patrick Marchlewitz Tel. 071 855 48 65\nPfrn Esther Marchlewitz Tel. 071
  855 48 65\n\nWeitere Infos:
  https://www.ref-rorschach.ch/veranstaltung/33231
SUMMARY:Gemeindereise Kroatien 26.09. - 03.10.2026
PRIORITY:5
X-MICROSOFT-CDO-IMPORTANCE:1
CLASS:PUBLIC
END:VEVENT
END:VCALENDAR
