BEGIN:VCALENDAR
PRODID:-//kirchenweb.ch gmbh//veranstaltungsausgabe v2.0//DE
VERSION:2.0
METHOD:PUBLISH
BEGIN:VEVENT
DTSTART:20260829T070000Z
DTEND:20260829T080000Z
LOCATION:noch offen\, \,
TRANSP:OPAQUE
SEQUENCE:0
UID:33229-veranstaltung@ref-rorschach.ch
DTSTAMP:20260320T175328Z
DESCRIPTION:Tauche ein ins Mittelalter\n\nLiebe Väter\n\nWie wäre es mit
  einem Vater-Kinder-Ausflug\, bei dem wir miteinander ins Mittelalter
  reisen. Wir erleben\, wie die Menschen damals gelebt\, gewohnt und gebaut
  haben. Auf der Klosterbaustelle „Campus Galli“ entsteht Tag für Tag
  ein Stück Mittelalter: Handwerker schaffen mit den Mitteln des 9.
  Jahrhunderts ein Kloster auf Grundlage des St. Galler Klosterplans.\n 
 \nNach der gemeinsamen Hinfahrt\, gibt es eine erlebnisreiche Führung. Es
  folgen ein feines Linsen-Mittagessen\, etwas freie Zeit und ein
  gemeinsamer Schluss\, bevor wir den Heimweg wieder antreten. \n\nKosten:
  Fr. 40.– pro Familie\n\nAlter: Kinder ab Kindergarten willkommen. 
 \n(Teilnehmerzahl begrenzt)\n\nAnmeldung  bis 16.08.2026 an\nMatthias
  Otte\, Signalstrasse 34\, 9400 Rorschach\,
  matthias.otte@ref-rorschach.ch\, 071 844 54 12\n\nKontakt: Pfr. Patrick
  Marchlewitz Tel. 071 855 48 65\n\nWeitere Infos:
  https://www.ref-rorschach.ch/veranstaltung/33229
SUMMARY:Vater-Kinder-Ausflug
PRIORITY:5
X-MICROSOFT-CDO-IMPORTANCE:1
CLASS:PUBLIC
END:VEVENT
END:VCALENDAR
