BEGIN:VCALENDAR
PRODID:-//kirchenweb.ch gmbh//veranstaltungsausgabe v2.0//DE
VERSION:2.0
METHOD:PUBLISH
BEGIN:VEVENT
DTSTART:20260621T090000Z
DTEND:20260621T160000Z
LOCATION:noch offen\, \,
TRANSP:OPAQUE
SEQUENCE:0
UID:33228-veranstaltung@ref-rorschach.ch
DTSTAMP:20250711T135643Z
DESCRIPTION:Wir paddeln mit unseren acht Kanus der Kirchgemeinde und
  geniessen miteinander die schöne Landschaft. \n\nganzheitlich  — 
  spirituell  —  naturverbunden \n\nWir lassen uns treiben und begegnen
  den Strömungen mit geschickten Paddelschlägen. Dabei muss jeder seine
  Kräfte gut einteilen. Am Mittag werden wir picknicken
  (Eigenverpflegung). Eine Pause mit Kuchen und einem guten Gedanken darf
  nicht fehlen. Wir freuen uns auf Sie / Dich.\n\nWir treffen uns an der
  Evangelischen Kirche Rorschach und fahren mit möglichst wenigen Autos
  weiter. Bitte bei der Anmeldung angeben\, wer eine Mitfahrgelegenheit
  braucht und wer freie Plätze hat. Für den Nachmittag freuen wir uns
  über Kuchenspenden. Es sind keine Vorkenntnisse\, aber Schwimmkenntnisse
  erforderlich. \n\nStart\nEvang. Kirche Rorschach\nSignalstrasse 34\, 9400
  Rorschach\n\nKosten\nDie Teilnahme ist kostenlos. \n\nTeilnehmer\nFür
  alle geeignet\, ab 16 Jahren. \nMan sollte fit zu Fuss sein. 
 \nTeilnehmerzahl begrenzt. \n\nAnmelden bis Sonntag\, 14.06.2026 bei
 \nPfarrer Patrick Marchlewitz\, patrick.marchlewitz@ref-rorschach.ch\, 071
  844 54 18\n\n\nKontakt: Pfr. Patrick Marchlewitz Tel. 071 855 48 65\n
 \nWeitere Infos: https://www.ref-rorschach.ch/veranstaltung/33228
SUMMARY:Leben Gestalten - Mit dem Kanu unterwegs
PRIORITY:5
X-MICROSOFT-CDO-IMPORTANCE:1
CLASS:PUBLIC
END:VEVENT
END:VCALENDAR
