BEGIN:VCALENDAR
PRODID:-//kirchenweb.ch gmbh//veranstaltungsausgabe v2.0//DE
VERSION:2.0
METHOD:PUBLISH
BEGIN:VEVENT
DTSTART:20260605T160000Z
DTEND:20260605T200000Z
LOCATION:EKZ - Evang. Kirchgemeindezentrum\, \,
TRANSP:OPAQUE
SEQUENCE:0
UID:33226-veranstaltung@ref-rorschach.ch
DTSTAMP:20260327T094519Z
DESCRIPTION:Pizza aus dem echten Holz-Ofen \nmit einem feinen 3-Gang-Menu 
 \nGute Gespräche und Begegnungen\n\nRaus aus dem Alltag Rein in einen
  Abend zum Geniessen\n\nIm Jahr essen wir circa 1000 Mahlzeiten. Ohne
  Essen und Trinken gäbe es kein Leben. Weil wir aber wissen\, dass gutes
  Essen mehr ist als Nahrungsaufnahme\, laden wir als Kirchgemeinde zu
  die-sem besonderen Pizza-Workshop-Abend ein.\n\nOrt/Zeit \nEvang.
  Kirchgemeindezentrum Rorschach (Signalstrasse 34\, 9400 Rorschach) 
 \n18.00 Apero\, 18.30 Start Workshop\n\nProgramm \nPizza-Sosse kochen\,
  der perfekte Pizza-Teig \nZutaten rüsten\, Pizza belegen\, Dessert
  zubereiten \nFeines 3-Gang-Menu geniessen \nPause mit guten Gesprächen\n
 \nKosten \nDer Teilnehmerbeitrag von Fr. 40.– pro Person ist Abend zu
  zahlen. Darin enthalten: das Essen\, die Getränke und der Workshop. Bei
  kurzfristiger Abmeldung wird der Betrag in Rechnung gestellt.\n
 \nTeilnehmer \nDer Abend richtet sich an alle Erwachsenen\, die gutes
  Essen schätzen\, etwas lernen möchten und gute Gespräche und
  Begegnungen mögen.\n\nTeam \nMartin Rechsteiner (Hobby-Pizzaiolo) 
 \nEsther und Patrick Marchlewitz\n\nAnmeldung \nBis Sonntag\, 24. Mai 2026
  bei \nPfarrer Patrick Marchlewitz\,
  patrick.marchlewitz@ref-rorschach.ch\, 071 844 54 18\n\nKontakt: Pfr.
  Patrick Marchlewitz Tel. 071 855 48 65\nPfrn Esther Marchlewitz Tel. 071
  855 48 65\n\nWeitere Infos:
  https://www.ref-rorschach.ch/veranstaltung/33226
SUMMARY:PIZZA-back-WORKSHOP
PRIORITY:5
X-MICROSOFT-CDO-IMPORTANCE:1
CLASS:PUBLIC
END:VEVENT
END:VCALENDAR
