BEGIN:VCALENDAR
PRODID:-//kirchenweb.ch gmbh//veranstaltungsausgabe v2.0//DE
VERSION:2.0
METHOD:PUBLISH
BEGIN:VEVENT
DTSTART:20260501T170000Z
DTEND:20260501T200000Z
LOCATION:EKZ - Evang. Kirchgemeindezentrum\, Signalstrasse 34\, 9400
  Rorschach
TRANSP:OPAQUE
SEQUENCE:0
UID:33225-veranstaltung@ref-rorschach.ch
DTSTAMP:20250711T134041Z
DESCRIPTION:Alle Neuzugezogenen sind herzlich zur Neuzuzüger-Begrüssung
  eingeladen. Wir beginnen mit einem Apero im EKZ / Kirchenpark. Es folgt
  eine Kirchturmführung mit kleinem Orgelerlebnis. \n\nKontakt: Pfr.
  Patrick Marchlewitz Tel. 071 855 48 65\n\nWeitere Infos:
  https://www.ref-rorschach.ch/veranstaltung/33225
SUMMARY:Neuzuzügerbegrüssung
PRIORITY:5
X-MICROSOFT-CDO-IMPORTANCE:1
CLASS:PUBLIC
END:VEVENT
END:VCALENDAR
