BEGIN:VCALENDAR
PRODID:-//kirchenweb.ch gmbh//veranstaltungsausgabe v2.0//DE
VERSION:2.0
METHOD:PUBLISH
BEGIN:VEVENT
DTSTART:20260506T120000Z
DTEND:20260506T160000Z
LOCATION:Kirche\, \,
TRANSP:OPAQUE
SEQUENCE:0
UID:33219-veranstaltung@ref-rorschach.ch
DTSTAMP:20250711T122507Z
DESCRIPTION:Kontakt: Pfrn Esther Marchlewitz Tel. 071 855 48 65\n\nWeitere
  Infos: https://www.ref-rorschach.ch/veranstaltung/33219
SUMMARY:Konf-Weg Musik und Glaube
PRIORITY:5
X-MICROSOFT-CDO-IMPORTANCE:1
CLASS:PUBLIC
END:VEVENT
END:VCALENDAR
