BEGIN:VCALENDAR
PRODID:-//kirchenweb.ch gmbh//veranstaltungsausgabe v2.0//DE
VERSION:2.0
METHOD:PUBLISH
BEGIN:VEVENT
DTSTART:20260606T070000Z
DTEND:20260606T080000Z
LOCATION:im Wald \, \,
TRANSP:OPAQUE
SEQUENCE:0
UID:33213-veranstaltung@ref-rorschach.ch
DTSTAMP:20250711T095308Z
DESCRIPTION:Wahlprogramm Unterwegs \n\nKontakt: Pfr. Patrick Marchlewitz
  Tel. 071 855 48 65\n\nWeitere Infos:
  https://www.ref-rorschach.ch/veranstaltung/33213
SUMMARY:Konf-Weg Kochen am Feuer
PRIORITY:5
X-MICROSOFT-CDO-IMPORTANCE:1
CLASS:PUBLIC
END:VEVENT
END:VCALENDAR
