BEGIN:VCALENDAR
PRODID:-//kirchenweb.ch gmbh//veranstaltungsausgabe v2.0//DE
VERSION:2.0
METHOD:PUBLISH
BEGIN:VEVENT
DTSTART:20260822T160000Z
DTEND:20260822T190000Z
LOCATION:EKZ - Evang. Kirchgemeindezentrum\, \,
TRANSP:OPAQUE
SEQUENCE:0
UID:33210-veranstaltung@ref-rorschach.ch
DTSTAMP:20250711T093049Z
DESCRIPTION:Alle Konfis der 1.-3. Oberstufe treffen sich zum Znacht und
  wählen ihr Programm für das kommende Schuljahr 2025-2026. \n\nBitte
  Grillgut selbst mitbringen. \nGetränke\, Chips\, Brot und Glacé
  vorhanden. \n\nKontakt: Pfr. Patrick Marchlewitz Tel. 071 855 48 65\n
 \nWeitere Infos: https://www.ref-rorschach.ch/veranstaltung/33210
SUMMARY:Konf-Weg Wahlabend
PRIORITY:5
X-MICROSOFT-CDO-IMPORTANCE:1
CLASS:PUBLIC
END:VEVENT
END:VCALENDAR
