BEGIN:VCALENDAR
PRODID:-//kirchenweb.ch gmbh//veranstaltungsausgabe v2.0//DE
VERSION:2.0
METHOD:PUBLISH
BEGIN:VEVENT
DTSTART:20260620T150000Z
DTEND:20260620T160000Z
LOCATION:EKZ - Evang. Kirchgemeindezentrum\, \,
TRANSP:OPAQUE
SEQUENCE:0
UID:33209-veranstaltung@ref-rorschach.ch
DTSTAMP:20250711T092945Z
DESCRIPTION:Im Sommer startet der neue Konf-Kurs\n\nDer Konf-Weg in der
  Oberstufe beginnt mit einem Kanu-Event am Ende der 6. Klasse. Der
  Konf-Weg endet in der 3. Oberstufe mit dem Fest der Konfirmation. \n
 \nJeden Sommer wählen die Jugendlichen ihr Programm mehrheitlich selbst.
  Wenige Programmpunkte sind obligatorisch. Die Jugendlichen können so
  eigene Erfahrungen mit Glauben und Religion in der Kirchgemeinde und in
  der Konf-Gruppe machen. \n\nZu diesem Info-Abend sind alle alle
  Jugendlichen mit ihren Eltern eingeladen\, die im nächsten Schuljahr die
  1. Oberstufe besuchen werden. \n\nWenn jemand nicht kommen kann\, bitten
  wir um Abmeldung. \n\nKontakt: Pfr. Patrick Marchlewitz Tel. 071 855 48
  65\n\nWeitere Infos: https://www.ref-rorschach.ch/veranstaltung/33209
SUMMARY:Info-Abend Konf-Weg
PRIORITY:5
X-MICROSOFT-CDO-IMPORTANCE:1
CLASS:PUBLIC
END:VEVENT
END:VCALENDAR
