BEGIN:VCALENDAR
PRODID:-//kirchenweb.ch gmbh//veranstaltungsausgabe v2.0//DE
VERSION:2.0
METHOD:PUBLISH
BEGIN:VEVENT
DTSTART:20260620T080000Z
DTEND:20260620T150000Z
LOCATION:EKZ - Evang. Kirchgemeindezentrum\, \,
TRANSP:OPAQUE
SEQUENCE:0
UID:33208-veranstaltung@ref-rorschach.ch
DTSTAMP:20250711T092824Z
DESCRIPTION:Wir feiern miteinander des Abschluss der Primarschulzeit und
  den Übergang in die Oberstufe. \n\nDazu gehen wir mit den Kanus auf den
  Bodensee. Wir fragen uns\, welche Spuren wir im Leben hinterlassen. Und
  feiern ein Ritual mit den Schülerinnen und Schülern und ihren Eltern. 
 \n\nZu diesem Anlass sind alle Schüler und Schülerinnen der 6. Klasse
  eingeladen. \n\nKontakt: Pfr. Patrick Marchlewitz Tel. 071 855 48 65\n
 \nWeitere Infos: https://www.ref-rorschach.ch/veranstaltung/33208
SUMMARY:Kanu-Event - 6. Klass-Projekt (Konf-Weg)
PRIORITY:5
X-MICROSOFT-CDO-IMPORTANCE:1
CLASS:PUBLIC
END:VEVENT
END:VCALENDAR
