BEGIN:VCALENDAR
PRODID:-//kirchenweb.ch gmbh//veranstaltungsausgabe v2.0//DE
VERSION:2.0
METHOD:PUBLISH
BEGIN:VEVENT
DTSTART:20260822T120000Z
DTEND:20260822T160000Z
LOCATION:EKZ - Evang. Kirchgemeindezentrum\, \,
TRANSP:OPAQUE
SEQUENCE:0
UID:33207-veranstaltung@ref-rorschach.ch
DTSTAMP:20250711T092556Z
DESCRIPTION:Alle Schülerinnen und Schüler der 1. Oberstufe treffen
  sich\, um miteinander den Konf-Weg zu beginnen. \n\nStart am EKZ\n
 \nKontakt: Pfr. Patrick Marchlewitz Tel. 071 855 48 65\n\nWeitere Infos:
  https://www.ref-rorschach.ch/veranstaltung/33207
SUMMARY:Start neuer Konf-Weg
PRIORITY:5
X-MICROSOFT-CDO-IMPORTANCE:1
CLASS:PUBLIC
END:VEVENT
END:VCALENDAR
