BEGIN:VCALENDAR
PRODID:-//kirchenweb.ch gmbh//veranstaltungsausgabe v2.0//DE
VERSION:2.0
METHOD:PUBLISH
BEGIN:VEVENT
DTSTART:20260710T101500Z
DTEND:20260710T111500Z
LOCATION:Kirche Eingang West - Kleingottesdienstraum\, \,
TRANSP:OPAQUE
SEQUENCE:0
UID:33087-veranstaltung@ref-rorschach.ch
DTSTAMP:20250711T090714Z
DESCRIPTION:Jeweils am zweiten Freitag im Monat beten Menschen der
  christlichen Kirchen von Rorschach für Anliegen der Region Rorschach von
  12.15 bis 13 Uhr im Kleingottesdienstraum der Kirche.\n\nKontakt: Pfr.
  Patrick Marchlewitz Tel. 071 855 48 65\n\nWeitere Infos:
  https://www.ref-rorschach.ch/veranstaltung/33087
SUMMARY:Gebet für Rorschach
PRIORITY:5
X-MICROSOFT-CDO-IMPORTANCE:1
CLASS:PUBLIC
END:VEVENT
END:VCALENDAR
