BEGIN:VCALENDAR
PRODID:-//kirchenweb.ch gmbh//veranstaltungsausgabe v2.0//DE
VERSION:2.0
METHOD:PUBLISH
BEGIN:VEVENT
DTSTART:20260703T160000Z
DTEND:20260703T170000Z
LOCATION:Evangelische Kirche\, Eingang West - Kleingottesdienstraum\,
  Signalstrasse 34\, 9400 Rorschach
TRANSP:OPAQUE
SEQUENCE:0
UID:33066-veranstaltung@ref-rorschach.ch
DTSTAMP:20250711T085548Z
DESCRIPTION:Das Evangelium von Jesus Christus ist eine Botschaft des
  Friedens für alle Menschen. Jesus sagt: "Selig\, die hungern und
  dürsten nach Gerechtigkeit - sie werden gesättigt werden... Selig\, die
  Frieden stiften - sie werden Söhne und Töchter Gottes genannt werden."
  Matthäus 5\,6.9\n\nDas verpflichtet uns als Christen\, für Frieden und
  Gerechtigkeit einzustehen. Dazu gehört auch das regelmässige Gebet für
  den Frieden. \n\nHerzliche Einladung zum ökumenischen Friedensgebet in
  Rorschach.\n\n\nKontakt: Pfr. Patrick Marchlewitz Tel. 071 855 48 65\n
 \nWeitere Infos: https://www.ref-rorschach.ch/veranstaltung/33066
SUMMARY:Oekumenisches Friedensgebet
PRIORITY:5
X-MICROSOFT-CDO-IMPORTANCE:1
CLASS:PUBLIC
END:VEVENT
END:VCALENDAR
