BEGIN:VCALENDAR
PRODID:-//kirchenweb.ch gmbh//veranstaltungsausgabe v2.0//DE
VERSION:2.0
METHOD:PUBLISH
BEGIN:VEVENT
DTSTART:20260906T074500Z
DTEND:20260906T090000Z
LOCATION:Auf dem Bauernhof Markus Bischof \, Fronberg 4\, 9404
  Rorschacherberg
TRANSP:OPAQUE
SEQUENCE:0
UID:33059-veranstaltung@ref-rorschach.ch
DTSTAMP:20250711T075529Z
DESCRIPTION:Ein Gottesdienstangebot für Familien mit Kindern ab 0 Jahren
  im Kirchgemeindehaus EKZ.\n\nDie Familien Fiir lädt Eltern\, Väter /
  Mütter mit ihren Kindern\, aber auch Grosseltern\, Götti / Gotte zum
  miteinander basteln\, spielen\, singen\, beten und fröhlich sein ein.
  Keiner ist hier zu jung oder zu alt - jeder ist herzlich willkommen. \n
 \nUm 9.45 Uhr beginnt das Basteln. Ab ca. 10.00 Uhr startet die gemeinsame
  Feier. Es gibt eine wiederkehrende Liturgie\, die schnell gelernt ist. In
  der Mitte wird meist eine Geschichte erzählt. Nach einem gemeinsamen
  Schluss sind alle eingeladen\, noch zu bleiben. \n\nAnschliessend sind
  alle zum Grillieren eingeladen. Grillwürste bitte selbst mitbringen.\n
 \nEine Anmeldung ist nicht erforderlich. \nDie Teilnahme ist kostenlos. \n
 \nKontakt: Pfr. Patrick Marchlewitz Tel. 071 855 48 65\n\nWeitere Infos:
  https://www.ref-rorschach.ch/veranstaltung/33059
SUMMARY:Familien Fiir - Erntedank
PRIORITY:5
X-MICROSOFT-CDO-IMPORTANCE:1
CLASS:PUBLIC
END:VEVENT
END:VCALENDAR
