BEGIN:VCALENDAR
PRODID:-//kirchenweb.ch gmbh//veranstaltungsausgabe v2.0//DE
VERSION:2.0
METHOD:PUBLISH
BEGIN:VEVENT
DTSTART:20260607T074500Z
DTEND:20260607T090000Z
LOCATION:EKZ - Evang. Kirchgemeindezentrum\, Signalstrasse 34\, 9400
  Rorschach
TRANSP:OPAQUE
SEQUENCE:0
UID:33058-veranstaltung@ref-rorschach.ch
DTSTAMP:20250711T075151Z
DESCRIPTION:Ein Gottesdienstangebot für Familien mit Kindern ab 0 Jahren
  im Kirchgemeindehaus EKZ.\n\nDie Familien Fiir lädt Eltern\, Väter /
  Mütter mit ihren Kindern\, aber auch Grosseltern\, Götti / Gotte zum
  miteinander basteln\, spielen\, singen\, beten und fröhlich sein ein.
  Keiner ist hier zu jung oder zu alt - jeder ist herzlich willkommen. \n
 \nUm 9.45 Uhr beginnt das Basteln. Ab ca. 10.00 Uhr startet die gemeinsame
  Feier. Es gibt eine wiederkehrende Liturgie\, die schnell gelernt ist. In
  der Mitte wird meist eine Geschichte erzählt. Nach einem gemeinsamen
  Schluss sind alle eingeladen\, noch zu bleiben. Für alle gibt es Zopf
  und Saft / Wein. \n\nEine Anmeldung ist nicht erforderlich. \nDie
  Teilnahme ist kostenlos. \n\nKontakt: Pfr. Patrick Marchlewitz Tel. 071
  855 48 65\n\nWeitere Infos:
  https://www.ref-rorschach.ch/veranstaltung/33058
SUMMARY:Familien Fiir - Vatertag
PRIORITY:5
X-MICROSOFT-CDO-IMPORTANCE:1
CLASS:PUBLIC
END:VEVENT
END:VCALENDAR
