BEGIN:VCALENDAR
PRODID:-//kirchenweb.ch gmbh//veranstaltungsausgabe v2.0//DE
VERSION:2.0
METHOD:PUBLISH
BEGIN:VEVENT
DTSTART:20260510T160000Z
DTEND:20260510T170000Z
LOCATION:Evangelische Kirche \, Signalstrasse 34\, 9400 Rorschach
TRANSP:OPAQUE
SEQUENCE:0
UID:33051-veranstaltung@ref-rorschach.ch
DTSTAMP:20250711T073014Z
DESCRIPTION:Regionaler (Jugend) Abend-Gottesdienst mit der Band "pipeline"
 \n\n Mitwirkende sind \n\n - die Evang.-ref. Kirchgemeinde Goldach\n - die
  Evang. Kirchgemeinde Horn \n - die Evang.-ref. Kirchgemeinde Rorschach\n
 \nKontakt: Pfr. Patrick Marchlewitz Tel. 071 855 48 65\n\nWeitere Infos:
  https://www.ref-rorschach.ch/veranstaltung/33051
SUMMARY:Gottesdienst - dankstell am see
PRIORITY:5
X-MICROSOFT-CDO-IMPORTANCE:1
CLASS:PUBLIC
END:VEVENT
END:VCALENDAR
