BEGIN:VCALENDAR
PRODID:-//kirchenweb.ch gmbh//veranstaltungsausgabe v2.0//DE
VERSION:2.0
METHOD:PUBLISH
BEGIN:VEVENT
DTSTART:20261101T090000Z
DTEND:20261101T100000Z
LOCATION:Evangelische Kirche \, Signalstrasse 34\, 9400 Rorschach
TRANSP:OPAQUE
SEQUENCE:0
UID:33026-veranstaltung@ref-rorschach.ch
DTSTAMP:20251203T081513Z
DESCRIPTION:In diesem Gottesdienst ist
  https://www.ref-rorschach.ch/taufemöglich. \n\nFür Kinder ist eine Mal-
  und Spielecke eingerichtet. \n\nAb 11.15 Uhr spielt Trio Anderscht noch
  ein Kurzkonzert. \n\nIm Anschluss sind alle zum ChileKafi eingeladen. \n
 \nAn diesem Sonntag fährt der https://www.ref-rorschach.ch/kirchenbus.\n
 \n\nKontakt: Pfr. Patrick Marchlewitz Tel. 071 855 48 65\n\nWeitere Infos:
  https://www.ref-rorschach.ch/veranstaltung/33026
SUMMARY:Gottesdienst - Reformationssonntag
PRIORITY:5
X-MICROSOFT-CDO-IMPORTANCE:1
CLASS:PUBLIC
END:VEVENT
END:VCALENDAR
