BEGIN:VCALENDAR
PRODID:-//kirchenweb.ch gmbh//veranstaltungsausgabe v2.0//DE
VERSION:2.0
METHOD:PUBLISH
BEGIN:VEVENT
DTSTART:20261025T090000Z
DTEND:20261025T100000Z
LOCATION:Evangelische Kirche \, Signalstrasse 34\, 9400 Rorschach
TRANSP:OPAQUE
SEQUENCE:0
UID:33025-veranstaltung@ref-rorschach.ch
DTSTAMP:20251203T081440Z
DESCRIPTION:Wir feiern diesen Erntedank - Gottesdienst in ökumenischer
  Gastfreundschaft. Alle katholischen Mitchristen sind eingeladen und in
  St. Kolumban findet kein Gottesdienst statt. \n\nIn diesem Gottesdienst
  ist https://www.ref-rorschach.ch/taufemöglich. \n\nFür Kinder ist eine
  Mal- und Spielecke eingerichtet. \n\nIm Anschluss sind alle zum
  Herbstmarkt und Mittagessen im EKZ eingeladen.\n\nKontakt: Pfrn Esther
  Marchlewitz Tel. 071 855 48 65\n\nWeitere Infos:
  https://www.ref-rorschach.ch/veranstaltung/33025
SUMMARY:Punkt 10 - Familien Gottesdienst - Erntedank
PRIORITY:5
X-MICROSOFT-CDO-IMPORTANCE:1
CLASS:PUBLIC
END:VEVENT
END:VCALENDAR
