BEGIN:VCALENDAR
PRODID:-//kirchenweb.ch gmbh//veranstaltungsausgabe v2.0//DE
VERSION:2.0
METHOD:PUBLISH
BEGIN:VEVENT
DTSTART:20260816T080000Z
DTEND:20260816T090000Z
LOCATION:Evangelische Kirche \, Signalstrasse 34\, 9400 Rorschach
TRANSP:OPAQUE
SEQUENCE:0
UID:33015-veranstaltung@ref-rorschach.ch
DTSTAMP:20251203T080752Z
DESCRIPTION:Mit diesem Gottesdienst starten wir gemeinsam in das neue
  Schul- und Konfirmandenjahr.\n\nIn diesem Gottesdienst ist
  https://www.ref-rorschach.ch/taufemöglich. \n\nFür Kinder ist eine Mal-
  und Spielecke eingerichtet. \n\nIm Anschluss sind alle zum Sommer Buffett
  zum Selbstkostenpreis ins EKZ eingeladen.\n\nKontakt: Pfr. Patrick
  Marchlewitz Tel. 071 855 48 65\n\nWeitere Infos:
  https://www.ref-rorschach.ch/veranstaltung/33015
SUMMARY:Familien - Gottesdienst zum Schulbeginn
PRIORITY:5
X-MICROSOFT-CDO-IMPORTANCE:1
CLASS:PUBLIC
END:VEVENT
END:VCALENDAR
