BEGIN:VCALENDAR
PRODID:-//kirchenweb.ch gmbh//veranstaltungsausgabe v2.0//DE
VERSION:2.0
METHOD:PUBLISH
BEGIN:VEVENT
DTSTART:20260712T073000Z
DTEND:20260712T083000Z
LOCATION:Warteggbühne \, Von Blarer Weg 1\, 9404 Rorschacherberg
TRANSP:OPAQUE
SEQUENCE:0
UID:33010-veranstaltung@ref-rorschach.ch
DTSTAMP:20260126T103644Z
DESCRIPTION:Der traditionelle ökumenische Badhütten-Gottesdienst findet
  zum zweiten Mal nicht am Wasser sondern im Warteggpark statt. Start ist
  um 09.30 Uhr. \n\nKein Gottesdienst in der Evangelischen Kirche und in
  St. Kolumban.\n\nIn diesem Gottesdienst ist
  https://www.ref-rorschach.ch/taufemöglich. \n\nIm Anschluss hat die Bar
  der Sommerbühne geöffnet. \n\nKontakt: Pfr. Patrick Marchlewitz Tel.
  071 855 48 65\n\nWeitere Infos:
  https://www.ref-rorschach.ch/veranstaltung/33010
SUMMARY:ökumenischer Gottesdienst im Warteggpark
PRIORITY:5
X-MICROSOFT-CDO-IMPORTANCE:1
CLASS:PUBLIC
END:VEVENT
END:VCALENDAR
