BEGIN:VCALENDAR
PRODID:-//kirchenweb.ch gmbh//veranstaltungsausgabe v2.0//DE
VERSION:2.0
METHOD:PUBLISH
BEGIN:VEVENT
DTSTART:20260614T080000Z
DTEND:20260614T090000Z
LOCATION:Kirche\, Signalstrasse 34\, 9400 Rorschach
TRANSP:OPAQUE
SEQUENCE:0
UID:33006-veranstaltung@ref-rorschach.ch
DTSTAMP:20251203T075915Z
DESCRIPTION:Alle Schülerinnen und Schüler der 3. Klassen erleben eine
  altersgerechte Form des Abendmahls\, nachdem sie sich im Unterricht mit
  dem Thema befasst haben. \n\nIn diesem Gottesdienst ist
  https://www.ref-rorschach.ch/taufemöglich. \n\nFür Kinder ist eine Mal-
  und Spielecke eingerichtet. \n\nIm Anschluss sind alle zum ChileKafi
  eingeladen.\n\n\nKontakt: Pfrn Esther Marchlewitz Tel. 071 855 48 65\n
 \nWeitere Infos: https://www.ref-rorschach.ch/veranstaltung/33006
SUMMARY:Familien Gottesdienst - Einführung ins Abendmahl
PRIORITY:5
X-MICROSOFT-CDO-IMPORTANCE:1
CLASS:PUBLIC
END:VEVENT
END:VCALENDAR
